BEGIN:VCALENDAR
VERSION:2.0
PRODID:-//Soaring City Innovation Partnership | Tampa&#039;s Uptown Innovation Quarter - ECPv6.13.2//NONSGML v1.0//EN
CALSCALE:GREGORIAN
METHOD:PUBLISH
X-ORIGINAL-URL:https://soaringcity.com
X-WR-CALDESC:Events for Soaring City Innovation Partnership | Tampa&#039;s Uptown Innovation Quarter
REFRESH-INTERVAL;VALUE=DURATION:PT1H
X-Robots-Tag:noindex
X-PUBLISHED-TTL:PT1H
BEGIN:VTIMEZONE
TZID:America/New_York
BEGIN:DAYLIGHT
TZOFFSETFROM:-0500
TZOFFSETTO:-0400
TZNAME:EDT
DTSTART:20240310T070000
END:DAYLIGHT
BEGIN:STANDARD
TZOFFSETFROM:-0400
TZOFFSETTO:-0500
TZNAME:EST
DTSTART:20241103T060000
END:STANDARD
END:VTIMEZONE
BEGIN:VEVENT
DTSTART;TZID=America/New_York:20240329T180000
DTEND;TZID=America/New_York:20240329T210000
DTSTAMP:20260423T074345
CREATED:20240208T215808Z
LAST-MODIFIED:20240208T215808Z
UID:2336-1711735200-1711746000@soaringcity.com
SUMMARY:Science After Dark: Superheroes
DESCRIPTION:Don’t let the kids have all the fun! Enjoy a sip of science with included beer and wine selections\, appetizers\, and liquid nitrogen ice-cream. Each event centers around hands-on science activities\, planetarium shows\, and demos specific to the theme of the evening. \n\nTickets required\, available ahead of time\, or at the door*\nScience After Dark event is 18+\nValid 21+ ID required for beer and wine
URL:https://soaringcity.com/calendar/science-after-dark-superheroes/
LOCATION:MOSI\, 4801 East Fowler Avenue\, Tampa\, FL\, 33617\, United States
ATTACH;FMTTYPE=image/jpeg:https://soaringcity.com/wp-content/uploads/2024/02/SAD-March-24-Digital.jpg
END:VEVENT
END:VCALENDAR