BEGIN:VCALENDAR
VERSION:2.0
PRODID:-//Soaring City Innovation Partnership | Tampa&#039;s Uptown Innovation Quarter - ECPv6.13.2//NONSGML v1.0//EN
CALSCALE:GREGORIAN
METHOD:PUBLISH
X-WR-CALNAME:Soaring City Innovation Partnership | Tampa&#039;s Uptown Innovation Quarter
X-ORIGINAL-URL:https://soaringcity.com
X-WR-CALDESC:Events for Soaring City Innovation Partnership | Tampa&#039;s Uptown Innovation Quarter
REFRESH-INTERVAL;VALUE=DURATION:PT1H
X-Robots-Tag:noindex
X-PUBLISHED-TTL:PT1H
BEGIN:VTIMEZONE
TZID:America/New_York
BEGIN:DAYLIGHT
TZOFFSETFROM:-0500
TZOFFSETTO:-0400
TZNAME:EDT
DTSTART:20240310T070000
END:DAYLIGHT
BEGIN:STANDARD
TZOFFSETFROM:-0400
TZOFFSETTO:-0500
TZNAME:EST
DTSTART:20241103T060000
END:STANDARD
END:VTIMEZONE
BEGIN:VEVENT
DTSTART;TZID=America/New_York:20240328T080000
DTEND;TZID=America/New_York:20240328T100000
DTSTAMP:20260423T043911
CREATED:20240304T163837Z
LAST-MODIFIED:20240304T163837Z
UID:2374-1711612800-1711620000@soaringcity.com
SUMMARY:University Area Slow Roll
DESCRIPTION:Join local leaders on an escorted group bicycle ride around the University Area in Tampa. The ride will depart UACDC at 9:00 a.m. and will be approximately three miles long
URL:https://soaringcity.com/calendar/university-area-slow-roll/
LOCATION:UACDC\, 14013 N. 22nd Street\, Tampa\, 33612\, United States
ATTACH;FMTTYPE=image/jpeg:https://soaringcity.com/wp-content/uploads/2024/03/SlowRoll.jpg
END:VEVENT
BEGIN:VEVENT
DTSTART;TZID=America/New_York:20240328T110000
DTEND;TZID=America/New_York:20240328T180000
DTSTAMP:20260423T043911
CREATED:20240214T205649Z
LAST-MODIFIED:20240214T205649Z
UID:2351-1711623600-1711648800@soaringcity.com
SUMMARY:2024 Business Women's Conference
DESCRIPTION:Where entrepreneurial women come together to inspire\, learn\, and thrive.
URL:https://soaringcity.com/calendar/2024-business-womens-conference/
LOCATION:Hotel Haya\, 1412 E 7th Ave\, Tampa\, fl\, 33605\, United States
ATTACH;FMTTYPE=application/pdf:https://soaringcity.com/wp-content/uploads/2024/02/PROMO-FLYER-2024-Business-Womens-Conference-1.pdf
END:VEVENT
END:VCALENDAR