BEGIN:VCALENDAR
VERSION:2.0
PRODID:-//Soaring City Innovation Partnership | Tampa&#039;s Uptown Innovation Quarter - ECPv6.13.2//NONSGML v1.0//EN
CALSCALE:GREGORIAN
METHOD:PUBLISH
X-ORIGINAL-URL:https://soaringcity.com
X-WR-CALDESC:Events for Soaring City Innovation Partnership | Tampa&#039;s Uptown Innovation Quarter
REFRESH-INTERVAL;VALUE=DURATION:PT1H
X-Robots-Tag:noindex
X-PUBLISHED-TTL:PT1H
BEGIN:VTIMEZONE
TZID:America/New_York
BEGIN:DAYLIGHT
TZOFFSETFROM:-0500
TZOFFSETTO:-0400
TZNAME:EDT
DTSTART:20230312T070000
END:DAYLIGHT
BEGIN:STANDARD
TZOFFSETFROM:-0400
TZOFFSETTO:-0500
TZNAME:EST
DTSTART:20231105T060000
END:STANDARD
BEGIN:DAYLIGHT
TZOFFSETFROM:-0500
TZOFFSETTO:-0400
TZNAME:EDT
DTSTART:20240310T070000
END:DAYLIGHT
BEGIN:STANDARD
TZOFFSETFROM:-0400
TZOFFSETTO:-0500
TZNAME:EST
DTSTART:20241103T060000
END:STANDARD
END:VTIMEZONE
BEGIN:VEVENT
DTSTART;VALUE=DATE:20230920
DTEND;VALUE=DATE:20240310
DTSTAMP:20260423T074251
CREATED:20240213T153235Z
LAST-MODIFIED:20240213T153235Z
UID:2345-1695168000-1710028799@soaringcity.com
SUMMARY:African Origins of Modern Healthcare
DESCRIPTION:This exhibit examines the roots of African medical practices in the Diaspora and in America. Of all the acknowledgements of the contributions to the New World\, the botanical contributions of enslaved Africans have gone unrecognized. One of the least explored aspects of the history of Africa pertains to African medicinal knowledge. The enslaved Africans laid the foundation for 20th century knowledge about the uses of plant life for medicine.
URL:https://soaringcity.com/calendar/african-origins-of-modern-healthcare/
LOCATION:Sulphur Springs Museum\, 1101 E. River Cove Street\, Tampa\, FL\, 33604\, United States
END:VEVENT
BEGIN:VEVENT
DTSTART;VALUE=DATE:20231028
DTEND;VALUE=DATE:20231029
DTSTAMP:20260423T074251
CREATED:20230929T151830Z
LAST-MODIFIED:20230929T151910Z
UID:2208-1698451200-1698537599@soaringcity.com
SUMMARY:ROBOTICON: FIRST TECH Challenge\, Centerstage
DESCRIPTION:FIRST Tech Challenge\, for  youth in 7th to 12th grade\,  challenges teams to design\, build\, program\, and operate robust small scale robots in an alliance format. \nFIRST Tech Challenge robots use an Android operating system in an accessible\, real world engineering experience that’s guided by adult Coaches and Mentors.
URL:https://soaringcity.com/calendar/roboticon-first-tech-challenge-centerstage/
LOCATION:rithm\, 2200 East Fowler Avenue\, Tampa\, FL\, 33612\, United States
END:VEVENT
BEGIN:VEVENT
DTSTART;VALUE=DATE:20231028
DTEND;VALUE=DATE:20231029
DTSTAMP:20260423T074251
CREATED:20230929T152256Z
LAST-MODIFIED:20230929T152256Z
UID:2211-1698451200-1698537599@soaringcity.com
SUMMARY:ROBOTICON: VEX Robotics Competition and VEX U Over Under Season Qualifying Tournament
DESCRIPTION:VEX Robotics Competition Spin Up is played on a 12’x12’ square field. Two (2) Alliances – one (1) “red” and one (1) “blue” – composed of two (2) Teams each\, compete in matches consisting of a fifteen (15) second Autonomous Period\, followed by a one minute and forty-five second (1:45) Driver Controlled Period.
URL:https://soaringcity.com/calendar/roboticon-vex-robotics-competition-and-vex-u-over-under-season-qualifying-tournament/
LOCATION:rithm\, 2200 East Fowler Avenue\, Tampa\, FL\, 33612\, United States
END:VEVENT
END:VCALENDAR