BEGIN:VCALENDAR
VERSION:2.0
PRODID:-//Soaring City Innovation Partnership | Tampa&#039;s Uptown Innovation Quarter - ECPv6.13.2//NONSGML v1.0//EN
CALSCALE:GREGORIAN
METHOD:PUBLISH
X-WR-CALNAME:Soaring City Innovation Partnership | Tampa&#039;s Uptown Innovation Quarter
X-ORIGINAL-URL:https://soaringcity.com
X-WR-CALDESC:Events for Soaring City Innovation Partnership | Tampa&#039;s Uptown Innovation Quarter
REFRESH-INTERVAL;VALUE=DURATION:PT1H
X-Robots-Tag:noindex
X-PUBLISHED-TTL:PT1H
BEGIN:VTIMEZONE
TZID:America/New_York
BEGIN:DAYLIGHT
TZOFFSETFROM:-0500
TZOFFSETTO:-0400
TZNAME:EDT
DTSTART:20230312T070000
END:DAYLIGHT
BEGIN:STANDARD
TZOFFSETFROM:-0400
TZOFFSETTO:-0500
TZNAME:EST
DTSTART:20231105T060000
END:STANDARD
BEGIN:DAYLIGHT
TZOFFSETFROM:-0500
TZOFFSETTO:-0400
TZNAME:EDT
DTSTART:20240310T070000
END:DAYLIGHT
BEGIN:STANDARD
TZOFFSETFROM:-0400
TZOFFSETTO:-0500
TZNAME:EST
DTSTART:20241103T060000
END:STANDARD
END:VTIMEZONE
BEGIN:VEVENT
DTSTART;VALUE=DATE:20230920
DTEND;VALUE=DATE:20240310
DTSTAMP:20260420T055858
CREATED:20240213T153235Z
LAST-MODIFIED:20240213T153235Z
UID:2345-1695168000-1710028799@soaringcity.com
SUMMARY:African Origins of Modern Healthcare
DESCRIPTION:This exhibit examines the roots of African medical practices in the Diaspora and in America. Of all the acknowledgements of the contributions to the New World\, the botanical contributions of enslaved Africans have gone unrecognized. One of the least explored aspects of the history of Africa pertains to African medicinal knowledge. The enslaved Africans laid the foundation for 20th century knowledge about the uses of plant life for medicine.
URL:https://soaringcity.com/calendar/african-origins-of-modern-healthcare/
LOCATION:Sulphur Springs Museum\, 1101 E. River Cove Street\, Tampa\, FL\, 33604\, United States
END:VEVENT
BEGIN:VEVENT
DTSTART;VALUE=DATE:20231021
DTEND;VALUE=DATE:20231022
DTSTAMP:20260420T055858
CREATED:20230929T152432Z
LAST-MODIFIED:20230929T152432Z
UID:2212-1697846400-1697932799@soaringcity.com
SUMMARY:ROBOTICON: REC Aerial Drone Competition - Eclipse
DESCRIPTION:The Aerial Drone Competition offers an exciting educational drone sporting event that focuses on hands-on\, student-centered learning.Teams learn about drones\, flight principles\, programming\, documentation and communication skills while expanding their understanding and building interest for Drone-related workforce and career opportunities.
URL:https://soaringcity.com/calendar/roboticon-rec-aerial-drone-competition-eclipse/
LOCATION:rithm\, 2200 East Fowler Avenue\, Tampa\, FL\, 33612\, United States
END:VEVENT
BEGIN:VEVENT
DTSTART;VALUE=DATE:20231021
DTEND;VALUE=DATE:20231022
DTSTAMP:20260420T055858
CREATED:20230929T152603Z
LAST-MODIFIED:20230929T154115Z
UID:2213-1697846400-1697932799@soaringcity.com
SUMMARY:ROBOTICON: Rumble Light Weight Combat Robotics Tournament
DESCRIPTION:Under SPARC Tournament Rules\, ROBOTICON will be hosting official Beetleweight\, Ant weight and Fairy weight class combat robotics tournaments.
URL:https://soaringcity.com/calendar/roboticon-rumble-light-weight-combat-robotics-tournament/
LOCATION:rithm\, 2200 East Fowler Avenue\, Tampa\, FL\, 33612\, United States
END:VEVENT
END:VCALENDAR